Package: PhosR Version: 1.14.0 Command: F:\biocbuild\bbs-3.19-bioc\R\bin\R.exe CMD check --no-multiarch --install=check:PhosR.install-out.txt --library=F:\biocbuild\bbs-3.19-bioc\R\library --no-vignettes --timings PhosR_1.14.0.tar.gz StartedAt: 2024-06-27 04:44:19 -0400 (Thu, 27 Jun 2024) EndedAt: 2024-06-27 04:51:45 -0400 (Thu, 27 Jun 2024) EllapsedTime: 445.9 seconds RetCode: 0 Status: OK CheckDir: PhosR.Rcheck Warnings: 0