Package: PhosR Version: 1.14.0 Command: /home/biocbuild/bbs-3.19-bioc/R/bin/R CMD INSTALL PhosR StartedAt: 2024-10-16 16:45:01 -0400 (Wed, 16 Oct 2024) EndedAt: 2024-10-16 16:45:30 -0400 (Wed, 16 Oct 2024) EllapsedTime: 28.3 seconds RetCode: 0 Status: OK