Package: PhosR Version: 1.14.0 Command: /home/biocbuild/bbs-3.19-bioc/R/bin/R CMD check --install=check:PhosR.install-out.txt --library=/home/biocbuild/bbs-3.19-bioc/R/site-library --timings PhosR_1.14.0.tar.gz StartedAt: 2024-10-17 03:45:23 -0400 (Thu, 17 Oct 2024) EndedAt: 2024-10-17 03:53:06 -0400 (Thu, 17 Oct 2024) EllapsedTime: 463.1 seconds RetCode: 0 Status: OK CheckDir: PhosR.Rcheck Warnings: 0