Package: PhosR Version: 1.14.0 Command: /Library/Frameworks/R.framework/Resources/bin/R CMD build --keep-empty-dirs --no-resave-data PhosR StartedAt: 2024-10-16 22:05:44 -0400 (Wed, 16 Oct 2024) EndedAt: 2024-10-16 22:14:15 -0400 (Wed, 16 Oct 2024) EllapsedTime: 511.5 seconds RetCode: 0 Status: OK PackageFile: PhosR_1.14.0.tar.gz PackageFileSize: 7.964 MiB