Package: PhosR Version: 1.14.0 Command: /Library/Frameworks/R.framework/Resources/bin/R CMD check --install=check:PhosR.install-out.txt --library=/Library/Frameworks/R.framework/Resources/library --no-vignettes --timings PhosR_1.14.0.tar.gz StartedAt: 2024-06-09 22:13:13 -0400 (Sun, 09 Jun 2024) EndedAt: 2024-06-09 22:19:39 -0400 (Sun, 09 Jun 2024) EllapsedTime: 386.2 seconds RetCode: 0 Status: OK CheckDir: PhosR.Rcheck Warnings: 0