Package: PhosR Version: 1.14.0 Command: /home/biocbuild/R/R-beta-2024-04-15_r86425/bin/R CMD check --install=check:PhosR.install-out.txt --library=/home/biocbuild/R/R-beta-2024-04-15_r86425/site-library --no-vignettes --timings PhosR_1.14.0.tar.gz StartedAt: 2024-05-09 10:32:52 -0000 (Thu, 09 May 2024) EndedAt: 2024-05-09 10:40:46 -0000 (Thu, 09 May 2024) EllapsedTime: 473.9 seconds RetCode: 1 Status: ERROR CheckDir: PhosR.Rcheck Warnings: NA