Package: PhosR Version: 1.14.0 Command: /Library/Frameworks/R.framework/Resources/bin/R CMD check --install=check:PhosR.install-out.txt --library=/Library/Frameworks/R.framework/Resources/library --no-vignettes --timings PhosR_1.14.0.tar.gz StartedAt: 2024-06-11 01:20:35 -0400 (Tue, 11 Jun 2024) EndedAt: 2024-06-11 01:29:19 -0400 (Tue, 11 Jun 2024) EllapsedTime: 523.6 seconds RetCode: 0 Status: OK CheckDir: PhosR.Rcheck Warnings: 0