Package: PhenoGeneRanker Version: 1.12.0 Command: rm -rf PhenoGeneRanker.buildbin-libdir && mkdir PhenoGeneRanker.buildbin-libdir && /Users/biocbuild/BBS/utils/build-universal.sh PhenoGeneRanker_1.12.0.tar.gz /Library/Frameworks/R.framework/Resources/bin/R PhenoGeneRanker.buildbin-libdir StartedAt: 2024-06-10 00:32:04 -0400 (Mon, 10 Jun 2024) EndedAt: 2024-06-10 00:32:15 -0400 (Mon, 10 Jun 2024) EllapsedTime: 11.5 seconds RetCode: 0 Status: OK PackageFile: PhenoGeneRanker_1.12.0.tgz PackageFileSize: 79.74 KiB