Package: PhenoGeneRanker Version: 1.12.0 Command: rm -rf PhenoGeneRanker.buildbin-libdir && mkdir PhenoGeneRanker.buildbin-libdir && /Users/biocbuild/BBS/utils/build-universal.sh PhenoGeneRanker_1.12.0.tar.gz /Library/Frameworks/R.framework/Resources/bin/R PhenoGeneRanker.buildbin-libdir StartedAt: 2024-06-11 12:30:35 -0400 (Tue, 11 Jun 2024) EndedAt: 2024-06-11 12:30:51 -0400 (Tue, 11 Jun 2024) EllapsedTime: 15.3 seconds RetCode: 0 Status: OK PackageFile: PhenoGeneRanker_1.12.0.tgz PackageFileSize: 80.08 KiB