Package: PhenStat Version: 2.40.0 Command: rm -rf PhenStat.buildbin-libdir && mkdir PhenStat.buildbin-libdir && F:\biocbuild\bbs-3.19-bioc\R\bin\R.exe CMD INSTALL --build --library=PhenStat.buildbin-libdir PhenStat_2.40.0.tar.gz StartedAt: 2024-06-27 08:40:19 -0400 (Thu, 27 Jun 2024) EndedAt: 2024-06-27 08:40:57 -0400 (Thu, 27 Jun 2024) EllapsedTime: 38.4 seconds RetCode: 0 Status: OK PackageFile: PhenStat_2.40.0.zip PackageFileSize: 1.25 MiB