Package: PhenStat Version: 2.40.0 Command: /home/biocbuild/bbs-3.19-bioc/R/bin/R CMD build --keep-empty-dirs --no-resave-data PhenStat StartedAt: 2024-10-16 20:07:52 -0400 (Wed, 16 Oct 2024) EndedAt: 2024-10-16 20:08:19 -0400 (Wed, 16 Oct 2024) EllapsedTime: 27.0 seconds RetCode: 0 Status: OK PackageFile: PhenStat_2.40.0.tar.gz PackageFileSize: 681.9 KiB