Package: PhenStat Version: 2.40.0 Command: /Library/Frameworks/R.framework/Resources/bin/R CMD INSTALL PhenStat StartedAt: 2024-10-16 16:20:35 -0400 (Wed, 16 Oct 2024) EndedAt: 2024-10-16 16:21:19 -0400 (Wed, 16 Oct 2024) EllapsedTime: 43.8 seconds RetCode: 0 Status: OK