Package: PhenStat Version: 2.40.0 Command: /Library/Frameworks/R.framework/Resources/bin/R CMD INSTALL PhenStat StartedAt: 2024-06-09 15:31:54 -0400 (Sun, 09 Jun 2024) EndedAt: 2024-06-09 15:32:18 -0400 (Sun, 09 Jun 2024) EllapsedTime: 23.4 seconds RetCode: 0 Status: OK