Package: PhenStat Version: 2.40.0 Command: /home/biocbuild/R/R-beta-2024-04-15_r86425/bin/R CMD build --keep-empty-dirs --no-resave-data PhenStat StartedAt: 2024-05-09 02:29:46 -0000 (Thu, 09 May 2024) EndedAt: 2024-05-09 02:30:22 -0000 (Thu, 09 May 2024) EllapsedTime: 35.0 seconds RetCode: 0 Status: OK PackageFile: PhenStat_2.40.0.tar.gz PackageFileSize: 675.3 KiB