Package: PhenStat Version: 2.40.0 Command: rm -rf PhenStat.buildbin-libdir && mkdir PhenStat.buildbin-libdir && /Users/biocbuild/BBS/utils/build-universal.sh PhenStat_2.40.0.tar.gz /Library/Frameworks/R.framework/Resources/bin/R PhenStat.buildbin-libdir StartedAt: 2024-06-11 12:30:51 -0400 (Tue, 11 Jun 2024) EndedAt: 2024-06-11 12:31:25 -0400 (Tue, 11 Jun 2024) EllapsedTime: 34.9 seconds RetCode: 0 Status: OK PackageFile: PhenStat_2.40.0.tgz PackageFileSize: 1.25 MiB