Package: PharmacoGx Version: 3.8.0 Command: E:\biocbuild\bbs-3.19-bioc\R\bin\R.exe CMD INSTALL PharmacoGx StartedAt: 2024-10-16 17:02:29 -0400 (Wed, 16 Oct 2024) EndedAt: 2024-10-16 17:03:58 -0400 (Wed, 16 Oct 2024) EllapsedTime: 89.2 seconds RetCode: 0 Status: OK