Package: PharmacoGx Version: 3.8.0 Command: chmod a+r PharmacoGx -R && E:\biocbuild\bbs-3.19-bioc\R\bin\R.exe CMD build --keep-empty-dirs --no-resave-data PharmacoGx StartedAt: 2024-10-16 21:05:09 -0400 (Wed, 16 Oct 2024) EndedAt: 2024-10-16 21:06:57 -0400 (Wed, 16 Oct 2024) EllapsedTime: 107.5 seconds RetCode: 0 Status: OK PackageFile: PharmacoGx_3.8.0.tar.gz PackageFileSize: 4.421 MiB