Package: PharmacoGx Version: 3.8.0 Command: chmod a+r PharmacoGx -R && F:\biocbuild\bbs-3.19-bioc\R\bin\R.exe CMD build --keep-empty-dirs --no-resave-data PharmacoGx StartedAt: 2024-06-26 20:58:11 -0400 (Wed, 26 Jun 2024) EndedAt: 2024-06-26 21:00:37 -0400 (Wed, 26 Jun 2024) EllapsedTime: 146.4 seconds RetCode: 0 Status: OK PackageFile: PharmacoGx_3.8.0.tar.gz PackageFileSize: 4.421 MiB