Package: PharmacoGx Version: 3.8.0 Command: rm -rf PharmacoGx.buildbin-libdir && mkdir PharmacoGx.buildbin-libdir && F:\biocbuild\bbs-3.19-bioc\R\bin\R.exe CMD INSTALL --build --library=PharmacoGx.buildbin-libdir PharmacoGx_3.8.0.tar.gz StartedAt: 2024-06-27 08:40:09 -0400 (Thu, 27 Jun 2024) EndedAt: 2024-06-27 08:41:27 -0400 (Thu, 27 Jun 2024) EllapsedTime: 78.1 seconds RetCode: 0 Status: OK PackageFile: PharmacoGx_3.8.0.zip PackageFileSize: 4.153 MiB