Package: PharmacoGx Version: 3.8.0 Command: /home/biocbuild/bbs-3.19-bioc/R/bin/R CMD INSTALL PharmacoGx StartedAt: 2024-10-16 16:31:17 -0400 (Wed, 16 Oct 2024) EndedAt: 2024-10-16 16:31:59 -0400 (Wed, 16 Oct 2024) EllapsedTime: 42.2 seconds RetCode: 0 Status: OK