Package: PharmacoGx Version: 3.8.0 Command: rm -rf PharmacoGx.buildbin-libdir && mkdir PharmacoGx.buildbin-libdir && /Users/biocbuild/BBS/utils/build-universal.sh PharmacoGx_3.8.0.tar.gz /Library/Frameworks/R.framework/Resources/bin/R PharmacoGx.buildbin-libdir StartedAt: 2024-06-11 12:30:33 -0400 (Tue, 11 Jun 2024) EndedAt: 2024-06-11 12:32:03 -0400 (Tue, 11 Jun 2024) EllapsedTime: 90.1 seconds RetCode: 0 Status: OK PackageFile: PharmacoGx_3.8.0.tgz PackageFileSize: 3.88 MiB