Package: PharmacoGx Version: 3.8.0 Command: /Library/Frameworks/R.framework/Resources/bin/R CMD INSTALL PharmacoGx StartedAt: 2024-10-16 18:00:36 -0400 (Wed, 16 Oct 2024) EndedAt: 2024-10-16 18:01:26 -0400 (Wed, 16 Oct 2024) EllapsedTime: 50.4 seconds RetCode: 0 Status: OK