Package: PharmacoGx Version: 3.8.0 Command: /Library/Frameworks/R.framework/Resources/bin/R CMD build --keep-empty-dirs --no-resave-data PharmacoGx StartedAt: 2024-10-17 06:22:32 -0400 (Thu, 17 Oct 2024) EndedAt: 2024-10-17 06:24:15 -0400 (Thu, 17 Oct 2024) EllapsedTime: 102.2 seconds RetCode: 0 Status: OK PackageFile: PharmacoGx_3.8.0.tar.gz PackageFileSize: 4.426 MiB