Package: PharmacoGx Version: 3.8.0 Command: rm -rf PharmacoGx.buildbin-libdir && mkdir PharmacoGx.buildbin-libdir && /Users/biocbuild/BBS/utils/build-universal.sh PharmacoGx_3.8.0.tar.gz /Library/Frameworks/R.framework/Resources/bin/R PharmacoGx.buildbin-libdir StartedAt: 2024-10-18 19:55:59 -0400 (Fri, 18 Oct 2024) EndedAt: 2024-10-18 19:57:04 -0400 (Fri, 18 Oct 2024) EllapsedTime: 64.8 seconds RetCode: 0 Status: OK PackageFile: PharmacoGx_3.8.0.tgz PackageFileSize: 3.879 MiB