Package: PhIPData Version: 1.12.0 Command: rm -rf PhIPData.buildbin-libdir && mkdir PhIPData.buildbin-libdir && F:\biocbuild\bbs-3.19-bioc\R\bin\R.exe CMD INSTALL --build --library=PhIPData.buildbin-libdir PhIPData_1.12.0.tar.gz StartedAt: 2024-06-27 08:40:23 -0400 (Thu, 27 Jun 2024) EndedAt: 2024-06-27 08:41:18 -0400 (Thu, 27 Jun 2024) EllapsedTime: 55.1 seconds RetCode: 0 Status: OK PackageFile: PhIPData_1.12.0.zip PackageFileSize: 1.208 MiB