Package: PhIPData Version: 1.12.0 Command: /home/biocbuild/bbs-3.19-bioc/R/bin/R CMD INSTALL PhIPData StartedAt: 2024-10-16 16:00:52 -0400 (Wed, 16 Oct 2024) EndedAt: 2024-10-16 16:01:19 -0400 (Wed, 16 Oct 2024) EllapsedTime: 26.5 seconds RetCode: 0 Status: OK