Package: PhIPData Version: 1.12.0 Command: /home/biocbuild/bbs-3.19-bioc/R/bin/R CMD build --keep-empty-dirs --no-resave-data PhIPData StartedAt: 2024-10-16 20:08:19 -0400 (Wed, 16 Oct 2024) EndedAt: 2024-10-16 20:09:13 -0400 (Wed, 16 Oct 2024) EllapsedTime: 54.2 seconds RetCode: 0 Status: OK PackageFile: PhIPData_1.12.0.tar.gz PackageFileSize: 820.8 KiB