Package: PhIPData Version: 1.12.0 Command: /Library/Frameworks/R.framework/Resources/bin/R CMD INSTALL PhIPData StartedAt: 2024-06-09 15:10:12 -0400 (Sun, 09 Jun 2024) EndedAt: 2024-06-09 15:10:53 -0400 (Sun, 09 Jun 2024) EllapsedTime: 40.4 seconds RetCode: 0 Status: OK