Package: PhIPData Version: 1.12.0 Command: /Library/Frameworks/R.framework/Resources/bin/R CMD build --keep-empty-dirs --no-resave-data PhIPData StartedAt: 2024-06-10 02:33:36 -0400 (Mon, 10 Jun 2024) EndedAt: 2024-06-10 02:34:37 -0400 (Mon, 10 Jun 2024) EllapsedTime: 61.3 seconds RetCode: 0 Status: OK PackageFile: PhIPData_1.12.0.tar.gz PackageFileSize: 820.9 KiB