Package: PhIPData Version: 1.12.0 Command: /Library/Frameworks/R.framework/Resources/bin/R CMD INSTALL PhIPData StartedAt: 2024-10-16 16:12:59 -0400 (Wed, 16 Oct 2024) EndedAt: 2024-10-16 16:13:31 -0400 (Wed, 16 Oct 2024) EllapsedTime: 31.6 seconds RetCode: 0 Status: OK