Package: PhIPData Version: 1.12.0 Command: /Library/Frameworks/R.framework/Resources/bin/R CMD build --keep-empty-dirs --no-resave-data PhIPData StartedAt: 2024-10-17 06:26:05 -0400 (Thu, 17 Oct 2024) EndedAt: 2024-10-17 06:27:02 -0400 (Thu, 17 Oct 2024) EllapsedTime: 56.3 seconds RetCode: 0 Status: OK PackageFile: PhIPData_1.12.0.tar.gz PackageFileSize: 820.8 KiB