Package: PepsNMR Version: 1.22.0 Command: E:\biocbuild\bbs-3.19-bioc\R\bin\R.exe CMD INSTALL PepsNMR StartedAt: 2024-10-16 16:08:18 -0400 (Wed, 16 Oct 2024) EndedAt: 2024-10-16 16:08:35 -0400 (Wed, 16 Oct 2024) EllapsedTime: 16.8 seconds RetCode: 0 Status: OK