Package: PepsNMR Version: 1.22.0 Command: /Library/Frameworks/R.framework/Resources/bin/R CMD INSTALL PepsNMR StartedAt: 2024-10-16 15:13:53 -0400 (Wed, 16 Oct 2024) EndedAt: 2024-10-16 15:14:26 -0400 (Wed, 16 Oct 2024) EllapsedTime: 33.1 seconds RetCode: 0 Status: OK