Package: PepsNMR Version: 1.22.0 Command: rm -rf PepsNMR.buildbin-libdir && mkdir PepsNMR.buildbin-libdir && /Users/biocbuild/BBS/utils/build-universal.sh PepsNMR_1.22.0.tar.gz /Library/Frameworks/R.framework/Resources/bin/R PepsNMR.buildbin-libdir StartedAt: 2024-10-17 16:49:35 -0400 (Thu, 17 Oct 2024) EndedAt: 2024-10-17 16:50:00 -0400 (Thu, 17 Oct 2024) EllapsedTime: 24.6 seconds RetCode: 0 Status: OK PackageFile: PepsNMR_1.22.0.tgz PackageFileSize: 1.363 MiB