Package: PepsNMR Version: 1.22.0 Command: rm -rf PepsNMR.buildbin-libdir && mkdir PepsNMR.buildbin-libdir && /Users/biocbuild/BBS/utils/build-universal.sh PepsNMR_1.22.0.tar.gz /Library/Frameworks/R.framework/Resources/bin/R PepsNMR.buildbin-libdir StartedAt: 2024-06-10 00:31:55 -0400 (Mon, 10 Jun 2024) EndedAt: 2024-06-10 00:32:08 -0400 (Mon, 10 Jun 2024) EllapsedTime: 13.7 seconds RetCode: 0 Status: OK PackageFile: PepsNMR_1.22.0.tgz PackageFileSize: 1.363 MiB