Package: PepsNMR Version: 1.22.0 Command: /home/biocbuild/R/R-beta-2024-04-15_r86425/bin/R CMD INSTALL PepsNMR StartedAt: 2024-05-08 20:10:14 -0000 (Wed, 08 May 2024) EndedAt: 2024-05-08 20:10:26 -0000 (Wed, 08 May 2024) EllapsedTime: 12.5 seconds RetCode: 0 Status: OK