Package: PepsNMR Version: 1.22.0 Command: rm -rf PepsNMR.buildbin-libdir && mkdir PepsNMR.buildbin-libdir && /Users/biocbuild/BBS/utils/build-universal.sh PepsNMR_1.22.0.tar.gz /Library/Frameworks/R.framework/Resources/bin/R PepsNMR.buildbin-libdir StartedAt: 2024-10-18 19:55:37 -0400 (Fri, 18 Oct 2024) EndedAt: 2024-10-18 19:55:51 -0400 (Fri, 18 Oct 2024) EllapsedTime: 13.6 seconds RetCode: 0 Status: OK PackageFile: PepsNMR_1.22.0.tgz PackageFileSize: 1.364 MiB