Package: PepsNMR Version: 1.22.0 Maintainer: Manon Martin MaintainerEmail: manon.martin at uclouvain.be git_url: https://git.bioconductor.org/packages/PepsNMR git_branch: RELEASE_3_19 git_last_commit: f964269 git_last_commit_date: 2024-04-30 11:11:12 -0400 (Tue, 30 Apr 2024)