Package: Pedixplorer Version: 1.0.0 Command: E:\biocbuild\bbs-3.19-bioc\R\bin\R.exe CMD INSTALL Pedixplorer StartedAt: 2024-10-16 16:52:50 -0400 (Wed, 16 Oct 2024) EndedAt: 2024-10-16 16:55:20 -0400 (Wed, 16 Oct 2024) EllapsedTime: 149.9 seconds RetCode: 0 Status: OK