Package: PeacoQC Version: 1.14.0 Command: rm -rf PeacoQC.buildbin-libdir && mkdir PeacoQC.buildbin-libdir && E:\biocbuild\bbs-3.19-bioc\R\bin\R.exe CMD INSTALL --build --library=PeacoQC.buildbin-libdir PeacoQC_1.14.0.tar.gz StartedAt: 2024-10-17 08:20:02 -0400 (Thu, 17 Oct 2024) EndedAt: 2024-10-17 08:20:26 -0400 (Thu, 17 Oct 2024) EllapsedTime: 23.6 seconds RetCode: 0 Status: OK PackageFile: PeacoQC_1.14.0.zip PackageFileSize: 1.601 MiB