Package: PeacoQC Version: 1.14.0 Command: chmod a+r PeacoQC -R && F:\biocbuild\bbs-3.19-bioc\R\bin\R.exe CMD build --keep-empty-dirs --no-resave-data PeacoQC StartedAt: 2024-06-26 20:55:13 -0400 (Wed, 26 Jun 2024) EndedAt: 2024-06-26 20:56:11 -0400 (Wed, 26 Jun 2024) EllapsedTime: 58.1 seconds RetCode: 0 Status: OK PackageFile: PeacoQC_1.14.0.tar.gz PackageFileSize: 1.521 MiB