Package: PeacoQC Version: 1.14.0 Command: /Library/Frameworks/R.framework/Resources/bin/R CMD check --install=check:PeacoQC.install-out.txt --library=/Library/Frameworks/R.framework/Resources/library --no-vignettes --timings PeacoQC_1.14.0.tar.gz StartedAt: 2024-10-17 10:45:02 -0400 (Thu, 17 Oct 2024) EndedAt: 2024-10-17 10:50:05 -0400 (Thu, 17 Oct 2024) EllapsedTime: 303.0 seconds RetCode: 0 Status: OK CheckDir: PeacoQC.Rcheck Warnings: 0