Package: PeacoQC Version: 1.14.0 Command: /Library/Frameworks/R.framework/Resources/bin/R CMD build --keep-empty-dirs --no-resave-data PeacoQC StartedAt: 2024-10-17 06:16:58 -0400 (Thu, 17 Oct 2024) EndedAt: 2024-10-17 06:18:01 -0400 (Thu, 17 Oct 2024) EllapsedTime: 63.0 seconds RetCode: 0 Status: OK PackageFile: PeacoQC_1.14.0.tar.gz PackageFileSize: 1.521 MiB