Package: PeacoQC Version: 1.14.0 Command: rm -rf PeacoQC.buildbin-libdir && mkdir PeacoQC.buildbin-libdir && /Users/biocbuild/BBS/utils/build-universal.sh PeacoQC_1.14.0.tar.gz /Library/Frameworks/R.framework/Resources/bin/R PeacoQC.buildbin-libdir StartedAt: 2024-10-18 19:54:54 -0400 (Fri, 18 Oct 2024) EndedAt: 2024-10-18 19:55:18 -0400 (Fri, 18 Oct 2024) EllapsedTime: 23.8 seconds RetCode: 0 Status: OK PackageFile: PeacoQC_1.14.0.tgz PackageFileSize: 1.599 MiB