Package: PathoStat Version: 1.30.0 Command: /home/biocbuild/bbs-3.19-bioc/R/bin/R CMD check --install=check:PathoStat.install-out.txt --library=/home/biocbuild/bbs-3.19-bioc/R/site-library --timings PathoStat_1.30.0.tar.gz StartedAt: 2024-10-17 03:37:27 -0400 (Thu, 17 Oct 2024) EndedAt: 2024-10-17 03:42:22 -0400 (Thu, 17 Oct 2024) EllapsedTime: 294.8 seconds RetCode: 0 Status: OK CheckDir: PathoStat.Rcheck Warnings: 0