Package: PathoStat Version: 1.30.0 Command: /Library/Frameworks/R.framework/Resources/bin/R CMD build --keep-empty-dirs --no-resave-data PathoStat StartedAt: 2024-10-16 21:56:43 -0400 (Wed, 16 Oct 2024) EndedAt: 2024-10-16 21:58:18 -0400 (Wed, 16 Oct 2024) EllapsedTime: 94.6 seconds RetCode: 0 Status: OK PackageFile: PathoStat_1.30.0.tar.gz PackageFileSize: 947.9 KiB