Package: PathoStat Version: 1.30.0 Command: /Library/Frameworks/R.framework/Resources/bin/R CMD build --keep-empty-dirs --no-resave-data PathoStat StartedAt: 2024-10-17 06:12:27 -0400 (Thu, 17 Oct 2024) EndedAt: 2024-10-17 06:13:14 -0400 (Thu, 17 Oct 2024) EllapsedTime: 46.7 seconds RetCode: 0 Status: OK PackageFile: PathoStat_1.30.0.tar.gz PackageFileSize: 947.6 KiB