Package: Path2PPI Version: 1.34.0 Command: rm -rf Path2PPI.buildbin-libdir && mkdir Path2PPI.buildbin-libdir && E:\biocbuild\bbs-3.19-bioc\R\bin\R.exe CMD INSTALL --build --library=Path2PPI.buildbin-libdir Path2PPI_1.34.0.tar.gz StartedAt: 2024-10-17 08:19:33 -0400 (Thu, 17 Oct 2024) EndedAt: 2024-10-17 08:19:54 -0400 (Thu, 17 Oct 2024) EllapsedTime: 21.1 seconds RetCode: 0 Status: OK PackageFile: Path2PPI_1.34.0.zip PackageFileSize: 1.126 MiB