Package: Path2PPI Version: 1.34.0 Command: chmod a+r Path2PPI -R && F:\biocbuild\bbs-3.19-bioc\R\bin\R.exe CMD build --keep-empty-dirs --no-resave-data Path2PPI StartedAt: 2024-06-26 20:52:01 -0400 (Wed, 26 Jun 2024) EndedAt: 2024-06-26 20:52:34 -0400 (Wed, 26 Jun 2024) EllapsedTime: 32.6 seconds RetCode: 0 Status: OK PackageFile: Path2PPI_1.34.0.tar.gz PackageFileSize: 1.239 MiB