Package: PanomiR Version: 1.8.0 Command: E:\biocbuild\bbs-3.19-bioc\R\bin\R.exe CMD INSTALL PanomiR StartedAt: 2024-10-16 17:04:07 -0400 (Wed, 16 Oct 2024) EndedAt: 2024-10-16 17:04:21 -0400 (Wed, 16 Oct 2024) EllapsedTime: 13.8 seconds RetCode: 0 Status: OK